BEGIN:VCALENDAR
VERSION:2.0
PRODID:-//kunstbauerkino.de//Termin_PHP 1.0//DE
X-WR-TIMEZONE;VALUE=TEXT:Europe/Berlin
METHOD:PUBLISH
BEGIN:VEVENT
ORGANIZER:www.kunstbauerkino.de
DTSTART:20260524T160000Z
DTEND:20260524T183600Z
LOCATION:KunstBauerKino e.V.\, Am Sportplatz 3\, 02747 Großhennersdorf
URL;VALUE=URI:https://www.kunstbauerkino.de
TRANSP:TRANSPARENT
SEQUENCE:0
UID:17633139069ea99d53c9d98.29141755
DTSTAMP:20260423T221445Z
DESCRIPTION:Als Ryland Grace erwacht\, muss er feststellen\, dass er 
 ganz allein ist. Er ist anscheinend der einzige Überlebende 
 einer Raumfahrtmission\, Millionen Kilometer von zu Hause 
 entfernt\, auf einem Flug ins Tau-Ceti-Sternsystem. Aber was 
 erwartet ihn dort? Und warum sind alle anderen 
 Besatzungsmitglieder tot? Nach und nach dämmert es Grace\, 
 dass von seinem Überleben nicht nur die Mission\, sondern 
 die Zukunft der gesamten Erdbevölkerung abhängt. 
 [kunstbauerkino.de]
SUMMARY:Der Astronaut – Project Hail Mary
PRIORITY:5
CLASS:PUBLIC
BEGIN:VALARM
TRIGGER:-PT120M
REPEAT:1
DURATION:PT60M
ACTION:DISPLAY
DESCRIPTION:Erinnerung:Der Astronaut – Project Hail Mary
END:VALARM
END:VEVENT
END:VCALENDAR
