BEGIN:VCALENDAR
VERSION:2.0
PRODID:-//kunstbauerkino.de//Termin_PHP 1.0//DE
X-WR-TIMEZONE;VALUE=TEXT:Europe/Berlin
METHOD:PUBLISH
BEGIN:VEVENT
ORGANIZER:www.kunstbauerkino.de
DTSTART:20260515T180000Z
DTEND:20260515T193300Z
LOCATION:KunstBauerKino e.V.\, Am Sportplatz 3\, 02747 Großhennersdorf
URL;VALUE=URI:https://www.kunstbauerkino.de
TRANSP:TRANSPARENT
SEQUENCE:0
UID:1727830269ea99df8dee82.70206028
DTSTAMP:20260423T221455Z
DESCRIPTION:In einem sudanesischen Baumwoll-Dorf wächst die junge 
 Nafisa mit den märchenhaften Geschichten ihrer Großmutter 
 Al-Sitauf. Als ein Geschäftsmann aus dem Ausland mit 
 genetisch verändertem Saatgut und großen 
 Entwicklungsplänen erscheint\, wird Nafisa zur 
 Schlüsselfigur in einem Machtspiel um die Zukunft des 
 Dorfes. Im Kampf um die Felder entdeckt sie ihre eigene 
 Stärke und verändert damit ihr Leben und das ihrer 
 Gemeinschaft für immer. [kunstbauerkino.de]
SUMMARY:Cotton Queen
PRIORITY:5
CLASS:PUBLIC
BEGIN:VALARM
TRIGGER:-PT120M
REPEAT:1
DURATION:PT60M
ACTION:DISPLAY
DESCRIPTION:Erinnerung:Cotton Queen
END:VALARM
END:VEVENT
END:VCALENDAR
