BEGIN:VCALENDAR
VERSION:2.0
PRODID:-//kunstbauerkino.de//Termin_PHP 1.0//DE
X-WR-TIMEZONE;VALUE=TEXT:Europe/Berlin
METHOD:PUBLISH
BEGIN:VEVENT
ORGANIZER:www.kunstbauerkino.de
DTSTART:20260516T180000Z
DTEND:20260516T201900Z
LOCATION:KunstBauerKino e.V.\, Am Sportplatz 3\, 02747 Großhennersdorf
URL;VALUE=URI:https://www.kunstbauerkino.de
TRANSP:TRANSPARENT
SEQUENCE:0
UID:75853821469ea9a6c31a942.11971524
DTSTAMP:20260423T221716Z
DESCRIPTION:Man-su hat sich mit viel Fleiß und harter Arbeit ein 
 perfektes Leben geschaffen: Haus mit Garten\, harmonische 
 Ehe\, talentierte Kinder und genug Zeit für sein geliebtes 
 Bonsai-Hobby. Doch als KI plötzlich seinen Job ersetzt\, 
 müssen er und seine Familie auf allerlei Annehmlichkeiten 
 verzichten: die Tennisstunden der Gattin\, das Netflix-Abo 
 der Kinder und selbst die zwei treuen Golden Retriever 
 können sie sich nicht mehr leisten. Und je länger Man-su 
 vergeblich Bewerbungen schreibt\, desto näher rückt auch 
 der Verlust des geliebten Hauses. Schließlich begreift er: 
 Nicht der Mangel an Jobs ist das Problem\, sondern die Menge 
 an Mitbewerbern. Man-su bleibt keine andere Wahl als sich 
 – auf sehr kreative Art und Weise – seiner Konkurrenten 
 zu entledigen. [kunstbauerkino.de]
SUMMARY:No Other Choice
PRIORITY:5
CLASS:PUBLIC
BEGIN:VALARM
TRIGGER:-PT120M
REPEAT:1
DURATION:PT60M
ACTION:DISPLAY
DESCRIPTION:Erinnerung:No Other Choice
END:VALARM
END:VEVENT
END:VCALENDAR
