BEGIN:VCALENDAR
VERSION:2.0
PRODID:-//kunstbauerkino.de//Termin_PHP 1.0//DE
X-WR-TIMEZONE;VALUE=TEXT:Europe/Berlin
METHOD:PUBLISH
BEGIN:VEVENT
ORGANIZER:www.kunstbauerkino.de
DTSTART:20260509T160000Z
DTEND:20260509T173400Z
LOCATION:KunstBauerKino e.V.\, Am Sportplatz 3\, 02747 Großhennersdorf
URL;VALUE=URI:https://www.kunstbauerkino.de
TRANSP:TRANSPARENT
SEQUENCE:0
UID:15142856869ea99df9260a3.52376037
DTSTAMP:20260423T221455Z
DESCRIPTION:Wissenschaft soll sachlich sein: Fakten statt Gefühle. Aber 
 eine neue Generation Naturwissenschaftler:innen erlebt\, wie 
 ihre Forschung durch den Klimawandel aus den Fugen gerät. 
 Statt die Wunder der Natur zu entdecken\, sind Maria\, 
 Doktorin der Glaziologie\, Sebastian\, Professor für 
 Physikalische Chemie\, und Nana\, Molekularbiologin\, 
 Chronisten einer untergehenden Welt. Aber niemand hört auf 
 sie. Was tun? Statt sich frustriert in den Elfenbeinturm 
 ihrer Forschung zurückzuziehen\, verlassen Maria\, 
 Sebastian und Nana das Labor und werden zu Aktivist:innen\, 
 denn sie tragen auf ihren Schultern das Gewicht der Welt. 
 [kunstbauerkino.de]
SUMMARY:Das Gewicht der Welt
PRIORITY:5
CLASS:PUBLIC
BEGIN:VALARM
TRIGGER:-PT120M
REPEAT:1
DURATION:PT60M
ACTION:DISPLAY
DESCRIPTION:Erinnerung:Das Gewicht der Welt
END:VALARM
END:VEVENT
END:VCALENDAR
