BEGIN:VCALENDAR
VERSION:2.0
PRODID:-//kunstbauerkino.de//Termin_PHP 1.0//DE
X-WR-TIMEZONE;VALUE=TEXT:Europe/Berlin
METHOD:PUBLISH
BEGIN:VEVENT
ORGANIZER:www.kunstbauerkino.de
DTSTART:20260501T180000Z
DTEND:20260501T193000Z
LOCATION:KunstBauerKino e.V.\, Am Sportplatz 3\, 02747 Großhennersdorf
URL;VALUE=URI:https://www.kunstbauerkino.de
TRANSP:TRANSPARENT
SEQUENCE:0
UID:42933453569ea99d53c5bd8.32949576
DTSTAMP:20260423T221445Z
DESCRIPTION:Eigentlich sollte die vorübergehende Versetzung in die 
 verschlafene Kleinstadt Normal für Sheriff Ulysses eine 
 willkommene Auszeit von Eheproblemen und beruflichen 
 Rückschlägen sein. Doch als ein misslungener Banküberfall 
 die trügerische Ruhe der Stadt durcheinanderbringt\, wird 
 schnell klar\, dass die Bewohner weit mehr zu verbergen 
 haben\, als zunächst angenommen. Ulysses merkt plötzlich: 
 Diese Kleinstadt ist alles andere als "normal"... 
 [kunstbauerkino.de]
SUMMARY:Normal
PRIORITY:5
CLASS:PUBLIC
BEGIN:VALARM
TRIGGER:-PT120M
REPEAT:1
DURATION:PT60M
ACTION:DISPLAY
DESCRIPTION:Erinnerung:Normal
END:VALARM
END:VEVENT
END:VCALENDAR
